BEGIN:VCALENDAR
VERSION:2.0
PRODID:-//eventon.com NONSGML v1.0//EN
CALSCALE:GREGORIAN
METHOD:PUBLISH
BEGIN:VEVENT
UID:69e50400eb2c9
DTSTAMP:20260419T163408Z
DTSTART:20250714T063100Z
DTEND:20250714T183100Z
LOCATION:
SUMMARY:Vide grenier au Mêle sur Sarthe
DESCRIPTION:Vide grenier au Mêle sur Sarthe\nhttps://ccvhs.fr/events/vide-
 grenier-au-mele-sur-sarthe/
URL:https://ccvhs.fr/events/vide-grenier-au-mele-sur-sarthe/
END:VEVENT
END:VCALENDAR