BEGIN:VCALENDAR
VERSION:2.0
PRODID:-//eventon.com NONSGML v1.0//EN
CALSCALE:GREGORIAN
METHOD:PUBLISH
BEGIN:VEVENT
UID:69e916bb6360f
DTSTAMP:20260422T184307Z
DTSTART:20250510T094500Z
DTEND:20250510T130000Z
LOCATION:
SUMMARY:Mai à vélo
DESCRIPTION:Mai à vélo\nhttps://ccvhs.fr/events/mai-a-velo/
URL:https://ccvhs.fr/events/mai-a-velo/
END:VEVENT
END:VCALENDAR