BEGIN:VCALENDAR
VERSION:2.0
PRODID:-//eventon.com NONSGML v1.0//EN
CALSCALE:GREGORIAN
METHOD:PUBLISH
BEGIN:VEVENT
UID:69e51098104d7
DTSTAMP:20260419T172752Z
DTSTART:20250326T130000Z
DTEND:20250326T160000Z
LOCATION:
SUMMARY:Club de couture
DESCRIPTION:Club de couture\nhttps://ccvhs.fr/en/events/club-de-couture-3/
URL:https://ccvhs.fr/en/events/club-de-couture-3/
END:VEVENT
END:VCALENDAR